




BEGIN:VCALENDAR
VERSION:2.0
PRODID:-//My CMS - ECPv6.0.11//NONSGML v1.0//EN
CALSCALE:GREGORIAN
METHOD:PUBLISH
X-WR-CALNAME:My CMS
X-ORIGINAL-URL:https://spm20.eu
X-WR-CALDESC:Events for My CMS
REFRESH-INTERVAL;VALUE=DURATION:PT1H
X-Robots-Tag:noindex
X-PUBLISHED-TTL:PT1H
BEGIN:VTIMEZONE
TZID:UTC
BEGIN:STANDARD
TZOFFSETFROM:+0000
TZOFFSETTO:+0000
TZNAME:UTC
DTSTART:20160101T000000
END:STANDARD
END:VTIMEZONE
BEGIN:VEVENT
DTSTART;VALUE=DATE:20180418
DTEND;VALUE=DATE:20180421
DTSTAMP:20260425T161258
CREATED:20180112T171043Z
LAST-MODIFIED:20180112T171149Z
UID:622-1524009600-1524268799@spm20.eu
SUMMARY:7th Multifrequency AFM Conference (Madrid - SPAIN)
DESCRIPTION:7th Multifrequency AFM Conference (Madrid – SPAIN)\nThe Multifrequency AFM conference series aims to provide the environment where the experts and the newcomers in force microscopy and nanomechanics share knowledge and expertise about instrumentation\, methodologies and theoretical aspects on advanced force microscopy.\nThe Multifrequency AFM is open to any contributions describing novel developments in the any of the aspects of force microscopy (theory\, experiment\, applications\, instrumentation\, software).\nSome of the topics highlighted in the 7th Multifrequency AFM Conference are\n\nNanomechanics\nHigh resolution imaging of soft matter\n3D imaging solid-liquid interfaces\nHigh speed force microscopy\nBimodal AFM\nCantilever dynamics\nMultifrequency methods\n\nThe Multifrequency AFM 2018 will have a Symposium devoted to present latest results  on Cell and Soft Matter Nanomechanics
URL:https://spm20.eu/event/7th-multifrequency-afm-conference-madrid-spain/
LOCATION:Hotel Eurostars Madrid Tower\, located in the Cuatro Torres Bussiness Area of Madrid\, Paseo de la Castellana 259-B\, Madrid\, Madrid\, 28046\, Spain
ORGANIZER;CN="CSIC":MAILTO:r.garcia@csic.es
END:VEVENT
BEGIN:VEVENT
DTSTART;VALUE=DATE:20180202
DTEND;VALUE=DATE:20180206
DTSTAMP:20260425T161258
CREATED:20171116T172437Z
LAST-MODIFIED:20171116T172600Z
UID:511-1517529600-1517875199@spm20.eu
SUMMARY:XX. Linz Winterworkshop  Advances in Single-Molecule Research for Biology & Nanoscience (Linz - AUSTRIA)
DESCRIPTION:XX. ANNUAL LINZ WINTER WORKSHOP (Advances in Single-Molecule Research for Biology & Nanoscience)\nThe Linz Winter Workshop will focus on biological single-molecule research and nanoscience\, and include force and optical microscopy/spectroscopy techniques. This year\, special sessions on nano-medicine and high-speed atomic force microscopy will be organized. It is the aim to provide a common platform for industry and academia.\nDo not miss it!
URL:https://spm20.eu/event/xx-linz-winterworkshop-advances-in-single-molecule-research-for-biology-nanoscience/
LOCATION:Sommerhotel Julius-Raab-Heim\, Julius-Raab-Str. 10\, Linz\, A-4040\, Austria
ORGANIZER;CN="JKU":MAILTO:linzwinterworkshop@jku.at
END:VEVENT
BEGIN:VEVENT
DTSTART;VALUE=DATE:20180126
DTEND;VALUE=DATE:20180127
DTSTAMP:20260425T161258
CREATED:20171215T134728Z
LAST-MODIFIED:20171215T134728Z
UID:537-1516924800-1517011199@spm20.eu
SUMMARY:SPM2.0 2nd Meeting
DESCRIPTION:
URL:https://spm20.eu/event/spm2-0-2nd-meeting/
LOCATION:INSERM\, 29 rue de Navacelles\, Montpellier\, Montpellier\, 34090\, France
END:VEVENT
BEGIN:VEVENT
DTSTART;VALUE=DATE:20180122
DTEND;VALUE=DATE:20180126
DTSTAMP:20260425T161258
CREATED:20171215T134859Z
LAST-MODIFIED:20171215T134859Z
UID:541-1516579200-1516924799@spm20.eu
SUMMARY:SPM2.0 1st Training Workshop
DESCRIPTION:
URL:https://spm20.eu/event/spm2-0-1st-training-workshop/
LOCATION:INSERM\, 29 rue de Navacelles\, Montpellier\, Montpellier\, 34090\, France
END:VEVENT
BEGIN:VEVENT
DTSTART;VALUE=DATE:20170126
DTEND;VALUE=DATE:20170128
DTSTAMP:20260425T161258
CREATED:20170110T100543Z
LAST-MODIFIED:20170110T100645Z
UID:290-1485388800-1485561599@spm20.eu
SUMMARY:SPM2.0 Kick off Meeting
DESCRIPTION:
URL:https://spm20.eu/event/kick-off-meeting/
LOCATION:IBEC\, Baldiri Reixac 4-8\, Barcelona\, Spain
END:VEVENT
BEGIN:VEVENT
DTSTART;VALUE=DATE:20161212
DTEND;VALUE=DATE:20161213
DTSTAMP:20260425T161258
CREATED:20161123T124234Z
LAST-MODIFIED:20170113T164356Z
UID:165-1481500800-1481587199@spm20.eu
SUMMARY:ITN 2016 - Info Day: A focus on implementation
DESCRIPTION:ITN 2016 – Info Day: A focus on implementation. \n01_Recruitment_ITN 2016 \n02_Finance_ITN 2016 \n03_Reporting_ITN 2016 \n04_Communication_ITN 2016 \n05_Ethics_ITN 2016
URL:https://spm20.eu/event/165/
LOCATION:Rue de la Loi\, 170 (Room DE GASPERI)\, Brussels\, 1040\, Belgium
ORGANIZER;CN="European%20Commission":MAILTO:REA-HOST-DRIVEN-ACTIONS@ec.europa.eu
END:VEVENT
END:VCALENDAR