




BEGIN:VCALENDAR
VERSION:2.0
PRODID:-//My CMS - ECPv6.0.11//NONSGML v1.0//EN
CALSCALE:GREGORIAN
METHOD:PUBLISH
X-ORIGINAL-URL:https://spm20.eu
X-WR-CALDESC:Events for My CMS
REFRESH-INTERVAL;VALUE=DURATION:PT1H
X-Robots-Tag:noindex
X-PUBLISHED-TTL:PT1H
BEGIN:VTIMEZONE
TZID:UTC
BEGIN:STANDARD
TZOFFSETFROM:+0000
TZOFFSETTO:+0000
TZNAME:UTC
DTSTART:20200101T000000
END:STANDARD
END:VTIMEZONE
BEGIN:VEVENT
DTSTART;VALUE=DATE:20200131
DTEND;VALUE=DATE:20200204
DTSTAMP:20260425T101740
CREATED:20190909T211640Z
LAST-MODIFIED:20190909T211640Z
UID:1310-1580428800-1580774399@spm20.eu
SUMMARY:XXII. Annual Linz Winter Workshop 2020 (Linz\, AUSTRIA)
DESCRIPTION:The Linz Winter Workshop will focus on biological single-molecule research and nanoscience\, and include force and optical microscopy/spectroscopy techniques. This year\, special sessions on nano-medicine and high-speed atomic force microscopy will be organized. It is the aim to provide a common platform for industry and academia. \nWe will also arrange a skiing day in the Austrian Alps on Friday\, January 31\, and a Winter School for young scientists and new-comers from January 28 until January 30.
URL:https://spm20.eu/event/xxii-annual-linz-winter-workshop-2020-linz-austria/
LOCATION:Sommerhotel Julius-Raab-Heim\, Julius-Raab-Str. 10\, Linz\, A-4040\, Austria
ORGANIZER;CN="JKU":MAILTO:linzwinterworkshop@jku.at
END:VEVENT
END:VCALENDAR