




BEGIN:VCALENDAR
VERSION:2.0
PRODID:-//My CMS - ECPv6.0.11//NONSGML v1.0//EN
CALSCALE:GREGORIAN
METHOD:PUBLISH
X-ORIGINAL-URL:https://spm20.eu
X-WR-CALDESC:Events for My CMS
REFRESH-INTERVAL;VALUE=DURATION:PT1H
X-Robots-Tag:noindex
X-PUBLISHED-TTL:PT1H
BEGIN:VTIMEZONE
TZID:UTC
BEGIN:STANDARD
TZOFFSETFROM:+0000
TZOFFSETTO:+0000
TZNAME:UTC
DTSTART:20190101T000000
END:STANDARD
END:VTIMEZONE
BEGIN:VEVENT
DTSTART;VALUE=DATE:20190526
DTEND;VALUE=DATE:20190530
DTSTAMP:20260425T140912
CREATED:20180928T143408Z
LAST-MODIFIED:20181115T165735Z
UID:734-1558828800-1559174399@spm20.eu
SUMMARY:21st International Scanning Probe Microscopy (ISPM) Conference (Louvain-la-Neuve\, BELGIUM)
DESCRIPTION:International Scanning Probe Microscopy \n\n\nThe International Scanning Probe Microscopy (ISPM) Conference in Louvain-la-Neuve 2019 is the 21st in a continuing series of international meetings featuring research on scanning probe microscopy (SPM)\, sensors\, and nanostructures that began in Seattle in 1999 and was followed by the annual conferences held in US\, Europe\, Asia\, and South America. It is aimed at researchers working on the development of scanning probe microscopy techniques\, as well as users of scanning probe microscopes from all scientific and industrial disciplines such as materials science\, basic physics\, life sciences\, semiconductor industry and energy industry.
URL:https://spm20.eu/event/21st-international-scanning-probe-microscopy-ispm-conference/
LOCATION:ISPM\, Rue de l’Hocaille 1\, Louvain-La-Neuve\, 1348\, Belgium
ORGANIZER;CN="UCLouvain":MAILTO:ispm2019@uclouvain.be
END:VEVENT
BEGIN:VEVENT
DTSTART;VALUE=DATE:20190902
DTEND;VALUE=DATE:20190907
DTSTAMP:20260425T140912
CREATED:20181219T132101Z
LAST-MODIFIED:20181219T132101Z
UID:831-1567382400-1567814399@spm20.eu
SUMMARY:9th AFM BioMed Conference
DESCRIPTION:
URL:https://spm20.eu/event/9th-afm-biomed-conference/
END:VEVENT
BEGIN:VEVENT
DTSTART;VALUE=DATE:20200131
DTEND;VALUE=DATE:20200204
DTSTAMP:20260425T140912
CREATED:20190909T211640Z
LAST-MODIFIED:20190909T211640Z
UID:1310-1580428800-1580774399@spm20.eu
SUMMARY:XXII. Annual Linz Winter Workshop 2020 (Linz\, AUSTRIA)
DESCRIPTION:The Linz Winter Workshop will focus on biological single-molecule research and nanoscience\, and include force and optical microscopy/spectroscopy techniques. This year\, special sessions on nano-medicine and high-speed atomic force microscopy will be organized. It is the aim to provide a common platform for industry and academia. \nWe will also arrange a skiing day in the Austrian Alps on Friday\, January 31\, and a Winter School for young scientists and new-comers from January 28 until January 30.
URL:https://spm20.eu/event/xxii-annual-linz-winter-workshop-2020-linz-austria/
LOCATION:Sommerhotel Julius-Raab-Heim\, Julius-Raab-Str. 10\, Linz\, A-4040\, Austria
ORGANIZER;CN="JKU":MAILTO:linzwinterworkshop@jku.at
END:VEVENT
END:VCALENDAR