




BEGIN:VCALENDAR
VERSION:2.0
PRODID:-//My CMS - ECPv6.0.11//NONSGML v1.0//EN
CALSCALE:GREGORIAN
METHOD:PUBLISH
X-ORIGINAL-URL:https://spm20.eu
X-WR-CALDESC:Events for My CMS
REFRESH-INTERVAL;VALUE=DURATION:PT1H
X-Robots-Tag:noindex
X-PUBLISHED-TTL:PT1H
BEGIN:VTIMEZONE
TZID:UTC
BEGIN:STANDARD
TZOFFSETFROM:+0000
TZOFFSETTO:+0000
TZNAME:UTC
DTSTART:20180101T000000
END:STANDARD
END:VTIMEZONE
BEGIN:VEVENT
DTSTART;VALUE=DATE:20180610
DTEND;VALUE=DATE:20180616
DTSTAMP:20260426T035436
CREATED:20180216T164919Z
LAST-MODIFIED:20180216T165116Z
UID:643-1528588800-1529107199@spm20.eu
SUMMARY:Course in Biophysics - Membranes and Lipid-Protein Interactions (Montpellier - FRANCE)
DESCRIPTION:EBSA is continuing its Advanced Courses on Biophysics\, and due to popular demand\, this is 5th of the series focusing on Membrane Biophysics and Lipid Protein Interactions. \nThis 5-day advanced course is for PhD students\, post-docs and young scientists. The registration includes full accommodation (housing and meals) and is heavily\nsubsidised by EBSA to ensure widest possible participation. The number of participants is limited to 50\, with preference given to graduate students. \nCOURSE FORMAT\nThe course will consist of plenary lectures by specialists in the field of membrane biophysics using most methodologies that are applied to membranes (NMR\, X-rays\, AFM\, EM\, Fluorescence\, Calorimetry\, Molecular Dynamics). Cases studies will be presented by teachers to small groups of participants. Round table discussions where participants will present their ongoing work and for which they may need advice from specialists\, will follow.
URL:https://spm20.eu/event/course-in-biophysics-membranes-and-lipid-protein-interactions-montpellier-france/
LOCATION:Hotel Mercure\, La Grande Motte\, Hérault\, France\, 140 rue du Port\, La Grande Motte\, Montpellier\, 34280\, France
END:VEVENT
END:VCALENDAR